BEGIN:VCALENDAR
VERSION:2.0
METHOD:PUBLISH
BEGIN:VEVENT
DTSTART:20231111T140000
DTEND:20231111T210000
LOCATION:WIDOKI Litewska 20/69  Kraków
TRANSP: OPAQUE
SEQUENCE:0
UID:
DTSTAMP:20260425T140801Z
SUMMARY:Widoki X Wiktoria Białecka 👩🏻‍🍳  / 11.11.2023
DESCRIPTION:Z przyjemnością zapraszamy na kolejne kulinarne wydarzenie w Widokach. Tym razem gościmy utalentowaną Wiktorię Białecką, która przygotuje dla was niezwykłe połączenia składników,......
URL:https://app.evenea.pl/event/widokixwiktoriabialecka/
PRIORITY:1
CLASS:PUBLIC
END:VEVENT
END:VCALENDAR
