BEGIN:VCALENDAR
VERSION:2.0
METHOD:PUBLISH
BEGIN:VEVENT
DTSTART:20241010T180000
DTEND:20241010T180000
LOCATION:Lubelskie Centrum Konferencyjne Artura Grottgera 2  Lublin
TRANSP: OPAQUE
SEQUENCE:0
UID:
DTSTAMP:20260420T030701Z
SUMMARY:Widowisko "ZAKOCHANE W POLSCE"
DESCRIPTION:Fundacja Inside Out wraz z Lubelskim Centrum Konferencyjnym serdecznie zapraszają na widowisko teatralno-muzyczne "Zakochane w Polsce", które odbędzie się 10 października 2024 roku o godzinie......
URL:https://app.evenea.pl/event/widowiskozakochanewpolsce/
PRIORITY:1
CLASS:PUBLIC
END:VEVENT
END:VCALENDAR
