BEGIN:VCALENDAR
VERSION:2.0
METHOD:PUBLISH
BEGIN:VEVENT
DTSTART:20200620T160000
DTEND:20200620T210000
LOCATION:seans on-line   Gdynia
TRANSP: OPAQUE
SEQUENCE:0
UID:
DTSTAMP:20260421T112825Z
SUMMARY:Więcej niż miód. Seans z filmem dokumentalnym
DESCRIPTION:Miejskie Hale Targowe w Gdyni zapraszają na projekcję filmu "Więcej niż miód" w formule on-line. Atrakcja jest częścią wydarzenia Festiwalu Kwiatów - Flower Lovers.Czas: 20 czerwca 2020......
URL:https://app.evenea.pl/event/wiecejnizmiod/
PRIORITY:1
CLASS:PUBLIC
END:VEVENT
END:VCALENDAR
