BEGIN:VCALENDAR
VERSION:2.0
METHOD:PUBLISH
BEGIN:VEVENT
DTSTART:20240409T170000
DTEND:20240409T170000
LOCATION:Regionalne Centrum Kultury w Kołobrzegu im. Z. Herberta ul. Solna 1  Kołobrzeg
TRANSP: OPAQUE
SEQUENCE:0
UID:
DTSTAMP:20260420T191402Z
SUMMARY:Wieczór Inspiracji by KCRP
DESCRIPTION:🏆 UWAGA WIELKI KONKURS WIECZORU INSPIRACJI trwa!Wygraj jedną z ponad 50 nagród! Sprawdź szczegóły na podstronie KONKURS, 🎁tutaj📰 Newsfeed:💬 [3.04] Ponad 200 osób ma już swój......
URL:https://app.evenea.pl/event/wieczorinspiracji/
PRIORITY:1
CLASS:PUBLIC
END:VEVENT
END:VCALENDAR
