BEGIN:VCALENDAR
VERSION:2.0
METHOD:PUBLISH
BEGIN:VEVENT
DTSTART:20250328T180000
DTEND:20250328T180000
LOCATION:Regionalne Centrum Kultury w Kołobrzegu im. Z. Herberta ul. Solna 1  Kołobrzeg
TRANSP: OPAQUE
SEQUENCE:0
UID:
DTSTAMP:20260422T193943Z
SUMMARY:Wieczór Inspiracji by KCRP 2025
DESCRIPTION:🏆 UWAGA KONKURS WIECZORU INSPIRACJI by KCRP 2025!Wygraj jedną z cennych nagród! Sprawdź szczegóły na podstronie KONKURS 🎁 TUTAJ🌟 Wieczór Inspiracji by KCRP 🌟To już druga edycja......
URL:https://app.evenea.pl/event/wieczorinspiracji2025/
PRIORITY:1
CLASS:PUBLIC
END:VEVENT
END:VCALENDAR
