BEGIN:VCALENDAR
VERSION:2.0
METHOD:PUBLISH
BEGIN:VEVENT
DTSTART:20260425T101500
DTEND:20260425T114500
LOCATION:Gmach główny Muzeum Narodowego w Krakowie aleja 3 maja 1  Kraków
TRANSP: OPAQUE
SEQUENCE:0
UID:
DTSTAMP:20260423T012959Z
SUMMARY:Szapocznikow i inne Wielki Artystki. Autorskie oprowadzanie po sztuce kobiecej
DESCRIPTION:Jesteśmy obecnie świadkami co prawda krótkiego, ale bardzo wyjątkowego w całej historii sztuki polskiej okresu publicystycznego zainteresowania sztuką kobiecą. Można powiedzieć, że Polki......
URL:https://app.evenea.pl/event/wielkieartystki210426/
PRIORITY:1
CLASS:PUBLIC
END:VEVENT
END:VCALENDAR
