BEGIN:VCALENDAR
VERSION:2.0
METHOD:PUBLISH
BEGIN:VEVENT
DTSTART:20240928T110000
DTEND:20240928T150000
LOCATION:Centrum Edukacji i Wsparcia os. Górali 24  Kraków
TRANSP: OPAQUE
SEQUENCE:0
UID:
DTSTAMP:20260423T062917Z
SUMMARY:Wieszak Dobra | Hanger of Good | Вішалка Добра
DESCRIPTION:Język prowadzenia: polski, ukraiński, angielskiPL | Zapraszamy na wymiankę ubraniową "Wieszak Dobra" podczas której damy ubraniom i przedmiotom szansę na nowe życie! 👕♻️ Wydarzenie to......
URL:https://app.evenea.pl/event/wieszakdobra2809/
PRIORITY:1
CLASS:PUBLIC
END:VEVENT
END:VCALENDAR
