BEGIN:VCALENDAR
VERSION:2.0
METHOD:PUBLISH
BEGIN:VEVENT
DTSTART:20221209T180000
DTEND:20221210T010000
LOCATION:Herbal Hotel ul. Włodkowica 15-17  50-072 Wrocław
TRANSP: OPAQUE
SEQUENCE:0
UID:
DTSTAMP:20260421T165905Z
SUMMARY:Zaproszenie na spotkanie swiąteczne Europa Forum 2022 - Einladung zur EUROPA FORUM Weihnachtsfeier 2022
DESCRIPTION:Liebe Mitglieder und Freunde des Europa Forum, der Vorstand des EUROPA FORUM lädt Sie ganz herzlich zur traditionellen WEIHNACHTSFEIER 2022 ein.am Freitag, dem 09. Dezember 2022um 18.00 Uhrim......
URL:https://app.evenea.pl/event/wigilia2022ef/
PRIORITY:1
CLASS:PUBLIC
END:VEVENT
END:VCALENDAR
