BEGIN:VCALENDAR
VERSION:2.0
METHOD:PUBLISH
BEGIN:VEVENT
DTSTART:20210902T170000
DTEND:20210902T170000
LOCATION:Filia nr 7 Miejskiej Biblioteki Publicznej w Szczecinie Matki Teresy z Kalkuty 8  Szczecin
TRANSP: OPAQUE
SEQUENCE:0
UID:
DTSTAMP:20260419T145935Z
SUMMARY:Pokaz filmu "Wilsona 7" i dyskusja z reżyserem
DESCRIPTION:Zapraszamy na projekcję filmu "Wilsona 7" i rozmowę z jego twórcą, Jakubem Boruniem, którą poprowadzi Grzegorz Fedorowski. Spotkanie odbędzie się 2 września (czwartek) o godz. 17.00 w......
URL:https://app.evenea.pl/event/wilsona-7/
PRIORITY:1
CLASS:PUBLIC
END:VEVENT
END:VCALENDAR
