BEGIN:VCALENDAR
VERSION:2.0
METHOD:PUBLISH
BEGIN:VEVENT
DTSTART:20201021T100000
DTEND:20201021T100000
LOCATION:REGENT WARSAW HOTEL ul. Belwederska 23  Warszawa
TRANSP: OPAQUE
SEQUENCE:0
UID:
DTSTAMP:20260424T061032Z
SUMMARY:12. Festiwal Win Niemieckich - Warszawa
DESCRIPTION:Festiwal Win Niemieckich powraca! Odłożony w czasie, ale za to ze zdwojoną siłą!Serdecznie zapraszamy profesjonalistów na 12. Festiwal Win Niemieckich - coroczną degustację win......
URL:https://app.evenea.pl/event/winaniemieckiewaw/
PRIORITY:1
CLASS:PUBLIC
END:VEVENT
END:VCALENDAR
