BEGIN:VCALENDAR
VERSION:2.0
METHOD:PUBLISH
BEGIN:VEVENT
DTSTART:20211105T110000
DTEND:20211106T190000
LOCATION:DTBJ Dom Towarowy Bracia Jabł​kowskich ul. Bracka 25  Warszawa
TRANSP: OPAQUE
SEQUENCE:0
UID:
DTSTAMP:20260422T091201Z
SUMMARY:Wine Expo Poland - MiędzynarodoweTargi Wina 2021
DESCRIPTION:Wine Expo Poland to międzynarodowe targi wina, które od pięciu lat stanowią stałe miejsce na mapie amatorów wytrawnego trunku. W 2021 roku wydarzenie będzie miało miejsce 5-6 liostopada......
URL:https://app.evenea.pl/event/wineexpopoland21/
PRIORITY:1
CLASS:PUBLIC
END:VEVENT
END:VCALENDAR
