BEGIN:VCALENDAR
VERSION:2.0
METHOD:PUBLISH
BEGIN:VEVENT
DTSTART:20250529T190000
DTEND:20250529T210000
LOCATION:Dzikie Wino Na Kleparzu Rynek Kleparski 20  Kraków
TRANSP: OPAQUE
SEQUENCE:0
UID:
DTSTAMP:20260422T204023Z
SUMMARY:WINNICE PODKARPACIA czyli na wschód od zachodu! Spotkanie i degustacja 12 win!
DESCRIPTION:Kontynuujemy podróże po winnych regionach Polski!Gościliśmy już winiarzy Jury Krakowskiej, gościliśmy winiarzy Wzgórz Trzebnickich. Czas na WINIARZY PODKARPACIA!12 win8 winnic4 winiarzy1......
URL:https://app.evenea.pl/event/winnicepodkarpacia/
PRIORITY:1
CLASS:PUBLIC
END:VEVENT
END:VCALENDAR
