BEGIN:VCALENDAR
VERSION:2.0
METHOD:PUBLISH
BEGIN:VEVENT
DTSTART:20260321T100000
DTEND:20260321T120000
LOCATION:Zespół Hal Targowych- podziemia Hali Łukowej Box 320 Wójta Radtkego 36 - wejście od ul. 3 Maja  81-355 Gdynia
TRANSP: OPAQUE
SEQUENCE:0
UID:
DTSTAMP:20260425T055746Z
SUMMARY:Warsztaty florystyczne "Wiosenny Wianek" prowadzone przez Adę Palkę z Fundacji Ziołogród
DESCRIPTION:To spotkanie z naturą i rytmem wiosny, podczas którego uczestniczki stworzą wianki z naturalnych materiałów - lekkie, organiczne i pełne symboliki. Powstałe formy staną się nie tylko......
URL:https://app.evenea.pl/event/wiosennywianek/
PRIORITY:1
CLASS:PUBLIC
END:VEVENT
END:VCALENDAR
