BEGIN:VCALENDAR
VERSION:2.0
METHOD:PUBLISH
BEGIN:VEVENT
DTSTART:20250412T090000
DTEND:20250412T090000
LOCATION:CENTRUM AKTYWNOŚCI OBYWATELSKIEJ UL. SIENKIEWICZA 6A  DĄBROWA GÓRNICZA
TRANSP: OPAQUE
SEQUENCE:0
UID:
DTSTAMP:20260424T111442Z
SUMMARY:WIELKANOCNA SESJA ZDJĘCIOWA
DESCRIPTION:Zapraszamy WSZYSTKIE RÓWNE BABKI na WIELKANOCNĄ SESJA ZDJĘCIOWĄ 🐥🐰🌼Wiosna i Wielkanoc zbliżają się wielkimi krokami, dlatego zapraszam wszystkich na tegoroczne sesje z Janett......
URL:https://app.evenea.pl/event/wiosnasesjaa/
PRIORITY:1
CLASS:PUBLIC
END:VEVENT
END:VCALENDAR
