BEGIN:VCALENDAR
VERSION:2.0
METHOD:PUBLISH
BEGIN:VEVENT
DTSTART:20260510T130000
DTEND:20260510T130000
LOCATION:Płyta Desantu 3 Dywizji Piechoty   Warszawa
TRANSP: OPAQUE
SEQUENCE:0
UID:
DTSTAMP:20260424T213203Z
SUMMARY:Wisła - rzeka kontrastów. Historia i architektura (I)
DESCRIPTION:Zapraszamy na pierwszy z cyklu spacerów wiślanymi brzegami.Podczas spaceru:- poznamy historię budowy mostów w Warszawie- odkryjemy fascynujące ciekawostki i anegdoty- przyjrzymy się......
URL:https://app.evenea.pl/event/wislahistoria1/
PRIORITY:1
CLASS:PUBLIC
END:VEVENT
END:VCALENDAR
