BEGIN:VCALENDAR
VERSION:2.0
METHOD:PUBLISH
BEGIN:VEVENT
DTSTART:20231129T074500
DTEND:20231129T170000
LOCATION:   
TRANSP: OPAQUE
SEQUENCE:0
UID:
DTSTAMP:20260424T114608Z
SUMMARY:Wizyta studyjna. Poznaj częstochowskie instytucje aktywizujące osoby z niepełnosprawnościami!
DESCRIPTION:Zapraszamy do udziału w wizycie studyjnej, podczas której odwiedzimy Fundację Oczami Brata i Stowarzyszenie YAVA, czyli instytucje aktywizujące osoby z niepełnosprawnościami w ramach......
URL:https://app.evenea.pl/event/wizyta-czestochowa/
PRIORITY:1
CLASS:PUBLIC
END:VEVENT
END:VCALENDAR
