BEGIN:VCALENDAR
VERSION:2.0
METHOD:PUBLISH
BEGIN:VEVENT
DTSTART:20231123T074500
DTEND:20231123T163000
LOCATION:Centrum Aktywności Społecznej w Mikołowie, Fabryka Pełna Życia w Dąbrowie Górniczej   
TRANSP: OPAQUE
SEQUENCE:0
UID:
DTSTAMP:20260424T105532Z
SUMMARY:Weź udział w wizycie studyjnej w inspirujących miejscach aktywności społecznej!
DESCRIPTION:Zapraszamy do udziału w wizycie studyjnej, podczas której odwiedzimy Centrum Aktywności Społecznej w Mikołowie oraz Fabrykę Pełną Życia w Dąbrowie Górniczej. To już 23 listopada.......
URL:https://app.evenea.pl/event/wizyta-mikolow-dabrowa-gornicza/
PRIORITY:1
CLASS:PUBLIC
END:VEVENT
END:VCALENDAR
