BEGIN:VCALENDAR
VERSION:2.0
METHOD:PUBLISH
BEGIN:VEVENT
DTSTART:20251125T100000
DTEND:20251125T100000
LOCATION:online   
TRANSP: OPAQUE
SEQUENCE:0
UID:
DTSTAMP:20260422T131347Z
SUMMARY:Twoja pierwsza firma. Wszystko, co musisz wiedzieć, by ruszyć z JDG - szkolenie online
DESCRIPTION:Jednoosobowa działalność gospodarcza (JDG) to najprostsza i najpopularniejsza forma prowadzenia firmy w Polsce. Pozwala szybko rozpocząć działalność bez skomplikowanych formalności,......
URL:https://app.evenea.pl/event/wlasnafirma-listopad/
PRIORITY:1
CLASS:PUBLIC
END:VEVENT
END:VCALENDAR
