BEGIN:VCALENDAR
VERSION:2.0
METHOD:PUBLISH
BEGIN:VEVENT
DTSTART:20221116T100000
DTEND:20221116T140000
LOCATION:   
TRANSP: OPAQUE
SEQUENCE:0
UID:
DTSTAMP:20260424T201321Z
SUMMARY:Zakładanie i prowadzenie działalności gospodarczej dla osób z niepełnosprawnościami
DESCRIPTION:Poznań Biznes Partner, Zakład Ubezpieczeń Społecznych - II Oddział w Poznaniu oraz Wydział Zdrowia i Spraw Społecznych zapraszają na bezpłatne szkolenie online dla osób z......
URL:https://app.evenea.pl/event/wlasnafirmadlaosobzniepelnosprawnosciami/
PRIORITY:1
CLASS:PUBLIC
END:VEVENT
END:VCALENDAR
