BEGIN:VCALENDAR
VERSION:2.0
METHOD:PUBLISH
BEGIN:VEVENT
DTSTART:20240123T123000
DTEND:20240123T140000
LOCATION:Uniwersytecki Inkubator Przedsiębiorczości inQUBE Wielka 67  Wrocław
TRANSP: OPAQUE
SEQUENCE:0
UID:
DTSTAMP:20260419T225722Z
SUMMARY:Własność intelektualna w startupie: co warto wiedzieć przed wypłynięciem na szerokie wody?
DESCRIPTION:Zapraszamy na warsztaty ochrony własności intelektualnej dla start-upów! Dowiesz się, jak chronić swój pomysł, uniknąć kosztownych błędów i efektywnie zarządzać IP w firmie. Zapisz......
URL:https://app.evenea.pl/event/wlasnoscintelektualnawstartupie/
PRIORITY:1
CLASS:PUBLIC
END:VEVENT
END:VCALENDAR
