BEGIN:VCALENDAR
VERSION:2.0
METHOD:PUBLISH
BEGIN:VEVENT
DTSTART:20200222T080000
DTEND:20200222T080000
LOCATION:WypiekAna Jesionowa 13/2  Gdańsk
TRANSP: OPAQUE
SEQUENCE:0
UID:
DTSTAMP:20260424T021621Z
SUMMARY:Szkolenie Jak stworzyć słodki biznes część 1 &2
DESCRIPTION:Szkolenie Jak stworzyć słodki biznes część 1- jak zacząć. 💓🏵️ TRÓJMIASTO💟Nie masz pomysłu na swój biznes?💟A może masz pomysł na swój słodki biznes, ale nie wiesz jak......
URL:https://app.evenea.pl/event/wlasny-biznes-wypiekana-luty/
PRIORITY:1
CLASS:PUBLIC
END:VEVENT
END:VCALENDAR
