BEGIN:VCALENDAR
VERSION:2.0
METHOD:PUBLISH
BEGIN:VEVENT
DTSTART:20191218T164000
DTEND:20191218T184000
LOCATION:Panstwowa Uczelnia Zawodowa ul. Mechanikow 3, sala 202  Wloclawek
TRANSP: OPAQUE
SEQUENCE:0
UID:
DTSTAMP:20260425T143955Z
SUMMARY:Przez pasje do spełnienia.
DESCRIPTION:Zapraszamy na spotkanie z Michałem Kaczorowskim!Michał Kaczorowski - KaczorexTancerz. Zwycięzca telewizyjnego programu tanecznego GOT TO DANCE - Tylko taniec! oraz finalista programów WORLD OF......
URL:https://app.evenea.pl/event/wloclawekcolumbus2/
PRIORITY:1
CLASS:PUBLIC
END:VEVENT
END:VCALENDAR
