BEGIN:VCALENDAR
VERSION:2.0
METHOD:PUBLISH
BEGIN:VEVENT
DTSTART:20260425T180000
DTEND:20260425T180000
LOCATION:Savchenko Gallery ul. Al. Grunwaldzka  504  Gdańsk
TRANSP: OPAQUE
SEQUENCE:0
UID:
DTSTAMP:20260423T170621Z
SUMMARY:Wieczór muzyczno-poetycki w Savchenko Gallery
DESCRIPTION:25 kwietnia o godzinie 18:00 w przestrzeni Sala Studio | Savchenko Gallery w Gdańsku-Oliwie odbędzie się wyjątkowy wieczór muzyczno-poetycki — spotkanie łączące słowo i dźwięk, emocję......
URL:https://app.evenea.pl/event/wmpsg/
PRIORITY:1
CLASS:PUBLIC
END:VEVENT
END:VCALENDAR
