BEGIN:VCALENDAR
VERSION:2.0
METHOD:PUBLISH
BEGIN:VEVENT
DTSTART:20200118T170000
DTEND:20200118T193000
LOCATION:Technopark "Pomerania" Cyfrowa 2-8  71-441 Szczecin
TRANSP: OPAQUE
SEQUENCE:0
UID:
DTSTAMP:20260420T134400Z
SUMMARY:We Need More Space in Szczecin
DESCRIPTION:\n\n	Potrzebujesz kosmosu tak bardzo jak my? 18 stycznia przyjdź do Technoparku i weź udział w niezwykłym kosmicznym wydarzeniu! 🚀\n\n\n\n	Jesteś pasjonatem astronomii? Interesuje Cię......
URL:https://app.evenea.pl/event/wnms-szn2/
PRIORITY:1
CLASS:PUBLIC
END:VEVENT
END:VCALENDAR
