BEGIN:VCALENDAR
VERSION:2.0
METHOD:PUBLISH
BEGIN:VEVENT
DTSTART:20250117T163000
DTEND:20250117T180000
LOCATION:Książnica Pomorska Podgórna 15/16  Szczecin
TRANSP: OPAQUE
SEQUENCE:0
UID:
DTSTAMP:20260420T031617Z
SUMMARY:Torby w nowym stylu (dla młodzieży i dorosłych)
DESCRIPTION:📅 Kiedy: 17 stycznia 2025 r.🕒 Godzina: 16:30 - 18:00 📍 Gdzie: Książnica Pomorska, sala nr 9Zapraszamy na warsztaty, które pozwolą Ci wyrazić swoją kreatywność i stworzyć......
URL:https://app.evenea.pl/event/wnowymstylu2/
PRIORITY:1
CLASS:PUBLIC
END:VEVENT
END:VCALENDAR
