BEGIN:VCALENDAR
VERSION:2.0
METHOD:PUBLISH
BEGIN:VEVENT
DTSTART:20241018T160000
DTEND:20241018T160000
LOCATION:platforma Zoom   
TRANSP: OPAQUE
SEQUENCE:0
UID:
DTSTAMP:20260424T153712Z
SUMMARY:Wolontariat w szkole - szkolenie online dla nauczycieli z terenu Subregionu Zachodniego Województwa Śląskiego
DESCRIPTION:Centrum Rozwoju Inicjatyw Społecznych CRIS zaprasza na szkolenie na temat wolontariatu szkolnego. Szkolenie odbędzie się 18 października (piątek) 2024 roku, na platformie Zoom, startujemy o......
URL:https://app.evenea.pl/event/wolontariatwszkole/
PRIORITY:1
CLASS:PUBLIC
END:VEVENT
END:VCALENDAR
