BEGIN:VCALENDAR
VERSION:2.0
METHOD:PUBLISH
BEGIN:VEVENT
DTSTART:20240413T104500
DTEND:20240413T111500
LOCATION:Wolskie Rotundy Prądzyńskiego 14a  Warszawa
TRANSP: OPAQUE
SEQUENCE:0
UID:
DTSTAMP:20260421T183743Z
SUMMARY:Spacer z przewodnikiem po terenie Wolskich Rotund
DESCRIPTION:Szanowni Państwo,"Kamień i co?" zaprasza na spacer po terenie Wolskich Rotund z przewodnikiem Adrianem Sobieszczańskim ("Warszawski Przewodnik"). Za zgodą właścicieli terenu i obiektów......
URL:https://app.evenea.pl/event/wolskierotundy111/
PRIORITY:1
CLASS:PUBLIC
END:VEVENT
END:VCALENDAR
