BEGIN:VCALENDAR
VERSION:2.0
METHOD:PUBLISH
BEGIN:VEVENT
DTSTART:20221128T170000
DTEND:20221128T210000
LOCATION:OIRP Kraków Pułkownika Francesco Nullo 8/4  31-543 Kraków
TRANSP: OPAQUE
SEQUENCE:0
UID:
DTSTAMP:20260421T082304Z
SUMMARY:Sytuacja prawniczek w Polsce. Jak jest i co możemy z tym zrobić. I spotkanie prawniczek w Krakowie
DESCRIPTION:Wydarzenie stacjonarneData: 28.11.2022 (poniedziałek)Miejsce: OIRP KrakówPułkownika Francesco Nullo 8/4, 31-543 KrakówWspółorganizatorzy wydarzenia:\n\n	Okręgowa Izba Radców Prawnych w......
URL:https://app.evenea.pl/event/womeninlawkrakow/
PRIORITY:1
CLASS:PUBLIC
END:VEVENT
END:VCALENDAR
