BEGIN:VCALENDAR
VERSION:2.0
METHOD:PUBLISH
BEGIN:VEVENT
DTSTART:20251028T170000
DTEND:20251028T220000
LOCATION:DataArt Warszawa, WeWork, Mennica Legacy Tower (7 piętro) ul. Prosta 20  00-850 Warszawa
TRANSP: OPAQUE
SEQUENCE:0
UID:
DTSTAMP:20260424T203648Z
SUMMARY:Women Power Up Conference AI | Leadership | Branding
DESCRIPTION:Zapraszamy na konferencję Women Power Up - AI | Leadership | Branding organizowaną przez DataArt, która w październiku odbędzie się w Warszawie. To doskonała okazja, aby spędzić czas w......
URL:https://app.evenea.pl/event/womenpowerupconference/
PRIORITY:1
CLASS:PUBLIC
END:VEVENT
END:VCALENDAR
