BEGIN:VCALENDAR
VERSION:2.0
METHOD:PUBLISH
BEGIN:VEVENT
DTSTART:20200305T180000
DTEND:20200305T180000
LOCATION:Aula Artis ul. Kutrzeby 10  Poznań
TRANSP: OPAQUE
SEQUENCE:0
UID:
DTSTAMP:20260423T163331Z
SUMMARY:Women's Talk #2: Odwagi!
DESCRIPTION:Głęboko wierzymy, że kobiety i kobiecość celebrować należy codziennie, ale to właśnie na początku marca, już po raz drugi, zapraszamy Was do wspólnego świętowania Dnia Kobiet!Już 5......
URL:https://app.evenea.pl/event/womenstalk/
PRIORITY:1
CLASS:PUBLIC
END:VEVENT
END:VCALENDAR
