BEGIN:VCALENDAR
VERSION:2.0
METHOD:PUBLISH
BEGIN:VEVENT
DTSTART:20210301T183000
DTEND:20210301T183000
LOCATION:Online Online  Online
TRANSP: OPAQUE
SEQUENCE:0
UID:
DTSTAMP:20260420T182912Z
SUMMARY:Women Techstyle Online #4
DESCRIPTION:⏱ Data: 1 marca 2021 roku, godz. 18:30🔵 Miejsce: Internet (każda osoba, która zarejestruje się na wydarzenie otrzyma link do transmisji o godzinie 15:00 w dniu 1 marca 2021).Zapraszamy na......
URL:https://app.evenea.pl/event/womentechstyleonline4/
PRIORITY:1
CLASS:PUBLIC
END:VEVENT
END:VCALENDAR
