BEGIN:VCALENDAR
VERSION:2.0
METHOD:PUBLISH
BEGIN:VEVENT
DTSTART:20260225T180000
DTEND:20260225T180000
LOCATION:H.4.0.S Marszałkowska 64  Warszawa
TRANSP: OPAQUE
SEQUENCE:0
UID:
DTSTAMP:20260420T114906Z
SUMMARY:WordUp Warszawa - 25.02.2026
DESCRIPTION:WordUp Warszawa\n\n	Przed nami kolejne spotkanie warszawskiej (choć nie tylko) społeczności WordPressa. Nasze wydarzenia mają na celu dzielenie się wiedzą, wymianę doświadczeń oraz......
URL:https://app.evenea.pl/event/wordup-waw-6/
PRIORITY:1
CLASS:PUBLIC
END:VEVENT
END:VCALENDAR
