BEGIN:VCALENDAR
VERSION:2.0
METHOD:PUBLISH
BEGIN:VEVENT
DTSTART:20230422T120000
DTEND:20230422T120000
LOCATION:Muzeum Miasta Gdynia Zawiszy Czarnego 1  Gdynia
TRANSP: OPAQUE
SEQUENCE:0
UID:
DTSTAMP:20260423T060517Z
SUMMARY:WordUp Trójmiasto #18
DESCRIPTION:W sobotę, 22 kwietnia 2023 witamy wiosnę w Gdyni!Dorzucimy też nieco węgla do pieca wiedzy - 7 prezentacji + networking = Będzie koszernie! Oczekujemy spragnionej wiedzy trójmiejskiej widowni......
URL:https://app.evenea.pl/event/wordup18/
PRIORITY:1
CLASS:PUBLIC
END:VEVENT
END:VCALENDAR
