BEGIN:VCALENDAR
VERSION:2.0
METHOD:PUBLISH
BEGIN:VEVENT
DTSTART:20231012T170000
DTEND:20231012T170000
LOCATION:   
TRANSP: OPAQUE
SEQUENCE:0
UID:
DTSTAMP:20260422T113416Z
SUMMARY:Wspieranie rozwoju emocjonalnego dzieci w wieku przedszkolnym - wskazówki dla rodziców i nauczycieli wychowania przedszkolnego
DESCRIPTION:Program wydarzenia:Dlaczego boimy się rozmawiać z dziećmi o emocjach? To co czujesz, nie jest złe! - akceptacja emocji dziecka Rozwijanie kompetencji społeczno-emocjonalnych dzieci - jak to......
URL:https://app.evenea.pl/event/wparcie-rozwoju-przedszkole/
PRIORITY:1
CLASS:PUBLIC
END:VEVENT
END:VCALENDAR
