BEGIN:VCALENDAR
VERSION:2.0
METHOD:PUBLISH
BEGIN:VEVENT
DTSTART:20250806T173000
DTEND:20250806T173000
LOCATION:Pracownia Anny Zawadzka-Sobieraj   Warszawa
TRANSP: OPAQUE
SEQUENCE:0
UID:
DTSTAMP:20260422T131522Z
SUMMARY:W Pracowni - Anna Zawadzka-Sobieraj
DESCRIPTION:Zodiak przejęły Architektki, więc i w ramach odwiedzin w pracowniach teraz będziemy gościć u architektek! Jako pierwszą odwiedzimy Annę Zawadzką-Sobieraj.Ania to architektka, socjolożka i......
URL:https://app.evenea.pl/event/wpracowniannazawadzka-sobieraj/
PRIORITY:1
CLASS:PUBLIC
END:VEVENT
END:VCALENDAR
