BEGIN:VCALENDAR
VERSION:2.0
METHOD:PUBLISH
BEGIN:VEVENT
DTSTART:20220526T170000
DTEND:20220526T213000
LOCATION:DoubleTree by Hilton Wrocław Podwale 83  Wrocław
TRANSP: OPAQUE
SEQUENCE:0
UID:
DTSTAMP:20260422T010300Z
SUMMARY:WROmama Porozmawiajmy o zdrowiu ze specjalistami
DESCRIPTION:Z okazji Dnia Matki Wrocławska Rada Kobiet oraz Wydział Zdrowia i Spraw Społecznych Urzędu Miejskiego Wrocławia serdecznie zapraszają wszystkie Córki, Mamy, Babcie do udziału w konferencji......
URL:https://app.evenea.pl/event/wromama/
PRIORITY:1
CLASS:PUBLIC
END:VEVENT
END:VCALENDAR
