BEGIN:VCALENDAR
VERSION:2.0
METHOD:PUBLISH
BEGIN:VEVENT
DTSTART:20210414T100000
DTEND:20210414T120000
LOCATION:Szkolenie online Dostęp zdalny  Dla uczestników
TRANSP: OPAQUE
SEQUENCE:0
UID:
DTSTAMP:20260421T135548Z
SUMMARY:Szkolenie online "Wsparcie na rozwój przedsiębiorstw"
DESCRIPTION:Bydgoska Agencja Rozwoju Regionalnego Sp. z o.o., Pomorska Specjalna Strefa Ekonomiczna Sp z o.o., Bank Gospodarstwa Krajowego i Agencja Rozwoju Przemysłu S.A. zapraszają na szkolenie online......
URL:https://app.evenea.pl/event/wsparcie-rozwoj-przedsiebiorstw/
PRIORITY:1
CLASS:PUBLIC
END:VEVENT
END:VCALENDAR
