BEGIN:VCALENDAR
VERSION:2.0
METHOD:PUBLISH
BEGIN:VEVENT
DTSTART:20190907T100000
DTEND:20190907T100000
LOCATION:Kawiarnia DeSer Czajkowskiego 19  Krosno
TRANSP: OPAQUE
SEQUENCE:0
UID:
DTSTAMP:20260421T184923Z
SUMMARY:Aromatyczna jesień w Krośnie - wsparcie dla kobiecych emocji
DESCRIPTION:Informacje na stronie www.mamatuli.pl...
URL:https://app.evenea.pl/event/wsparciedlaemocji/
PRIORITY:1
CLASS:PUBLIC
END:VEVENT
END:VCALENDAR
