BEGIN:VCALENDAR
VERSION:2.0
METHOD:PUBLISH
BEGIN:VEVENT
DTSTART:20230829T170000
DTEND:20230829T170000
LOCATION:Europejskie Centrum Solidarności  I  European Solidarity Centre plac Solidarności 1  Gdańsk
TRANSP: OPAQUE
SEQUENCE:0
UID:
DTSTAMP:20260425T040855Z
SUMMARY:Jak być dorosłą osobą sojuszniczą? Potrzeby młodzieży transpłciowej | bezpłatne warsztaty dla rodziców i osób pracujących z młodzieżą
DESCRIPTION:Transpłciowość nie jest już tematem tabu i coraz częściej pojawia się w mediach, jednakże pomimo dużej ilości informacji, wciąż pojawiają się nieścisłości i sprzeczne informacje.W......
URL:https://app.evenea.pl/event/wspierajacydorosly/
PRIORITY:1
CLASS:PUBLIC
END:VEVENT
END:VCALENDAR
