BEGIN:VCALENDAR
VERSION:2.0
METHOD:PUBLISH
BEGIN:VEVENT
DTSTART:20241008T100000
DTEND:20241008T100000
LOCATION:Concordia Design ul. Zwierzyniecka 3  Poznań
TRANSP: OPAQUE
SEQUENCE:0
UID:
DTSTAMP:20260420T162413Z
SUMMARY:Konferencja: Współpraca - Innowacje - Turystyka Zrównoważona
DESCRIPTION:Zapraszamy do udziału w konferencji WSPÓŁPRACA-INNOWACJE-TURYSTYKA ZRÓWNOWAŻONA, której organizatorem jest Polska Organizacja Turystyczna, a partnerem wydarzenia Wielkopolska Organizacja......
URL:https://app.evenea.pl/event/wspolpraca-innowacje-turystyka/
PRIORITY:1
CLASS:PUBLIC
END:VEVENT
END:VCALENDAR
