BEGIN:VCALENDAR
VERSION:2.0
METHOD:PUBLISH
BEGIN:VEVENT
DTSTART:20260321T120000
DTEND:20260321T140000
LOCATION:Zespół Hal Targowych- podziemia Hali Łukowej Box 320 Wójta Radtkego 36 - wejście od ul. 3 Maja  81-355 Gdynia
TRANSP: OPAQUE
SEQUENCE:0
UID:
DTSTAMP:20260425T055750Z
SUMMARY:Warsztaty fotograficzne i sesja wizerunkowa "W świetle wiosny", prowadzone przez Sandrę Szmigiel
DESCRIPTION:Sesja wykorzysta wiosenne wianki oraz wybrane eksponaty ze zbiorów Muzeum Kameralnego. Połączenie natury, historii i światła stworzy unikalny obraz wiosennego przebudzenia. Podczas sesji......
URL:https://app.evenea.pl/event/wswietlewiosny/
PRIORITY:1
CLASS:PUBLIC
END:VEVENT
END:VCALENDAR
