BEGIN:VCALENDAR
VERSION:2.0
METHOD:PUBLISH
BEGIN:VEVENT
DTSTART:20260328T180000
DTEND:20260328T193000
LOCATION:MOK AMFITEATR RADOM, klub DZIKIE WĘŻE UL.PARKOWA 1  RADOM
TRANSP: OPAQUE
SEQUENCE:0
UID:
DTSTAMP:20260422T130805Z
SUMMARY:Spektakl muzyczny "WPLEĆ SIĘ W SŁOŃCE"
DESCRIPTION:Energetyczne widowisko muzyczno-teatralneTwoja korzyść: duża dawka optymizmu, mega przypływ energii i chęci do życia, artystyczne doznania, rozmowy z artystkami, +niespodzianka- Twój......
URL:https://app.evenea.pl/event/wsws/
PRIORITY:1
CLASS:PUBLIC
END:VEVENT
END:VCALENDAR
