BEGIN:VCALENDAR
VERSION:2.0
METHOD:PUBLISH
BEGIN:VEVENT
DTSTART:20211118T180000
DTEND:20211118T200000
LOCATION:ONLINE   
TRANSP: OPAQUE
SEQUENCE:0
UID:
DTSTAMP:20260425T153313Z
SUMMARY:Wszechstronna komunikacja - klucz do zgranych i skutecznych zespołów.
DESCRIPTION:Wszechstronna komunikacja - klucz do zgranych i skutecznych zespołów. Czy współcześni liderzy muszą stawiać na szali satysfakcję pracowników oraz osiąganie wyników biznesowych?Czy......
URL:https://app.evenea.pl/event/wszechstronnakomunikacja/
PRIORITY:1
CLASS:PUBLIC
END:VEVENT
END:VCALENDAR
