BEGIN:VCALENDAR
VERSION:2.0
METHOD:PUBLISH
BEGIN:VEVENT
DTSTART:20241012T090000
DTEND:20241012T090000
LOCATION:TECHNOPARK POMERANIA ul. Cyfrowa 6 (parter) 71-441 Szczecin, Polska  Szczecin
TRANSP: OPAQUE
SEQUENCE:0
UID:
DTSTAMP:20260421T022412Z
SUMMARY:WUD Szczecin 2024 - Konferencja o tematyce User Experience
DESCRIPTION:WUD Szczecin 2024 to wyjątkowe wydarzenie dedykowane tematyce użyteczności, projektowania UX/UI i nowoczesnym technologiom. W dniach 12-13 października, w sercu Technoparku Pomerania, spotkają......
URL:https://app.evenea.pl/event/wud-szczecin2024/
PRIORITY:1
CLASS:PUBLIC
END:VEVENT
END:VCALENDAR
