BEGIN:VCALENDAR
VERSION:2.0
METHOD:PUBLISH
BEGIN:VEVENT
DTSTART:20221130T190000
DTEND:20221130T210000
LOCATION:Teatr Ochoty Mikołaja Reja 9  Warszawa
TRANSP: OPAQUE
SEQUENCE:0
UID:
DTSTAMP:20260419T184336Z
SUMMARY:Spektakl Teatru Forum"Wychowanie do samodzielności"
DESCRIPTION:Czy wiesz, że istnieje teatr interaktywny, w którym widz ma możliwość zmienić bieg historii? Teatr Forum umożliwia właśnie takie rozwiązanie! Publiczność nie tylko obdarza refleksją......
URL:https://app.evenea.pl/event/wychowaniedosamodzielnosci/
PRIORITY:1
CLASS:PUBLIC
END:VEVENT
END:VCALENDAR
