BEGIN:VCALENDAR
VERSION:2.0
METHOD:PUBLISH
BEGIN:VEVENT
DTSTART:20240504T120000
DTEND:20240504T140000
LOCATION:Przystanek tramwajowy "Salwator" Salwator  Kraków
TRANSP: OPAQUE
SEQUENCE:0
UID:
DTSTAMP:20260423T050305Z
SUMMARY:Wycieczka po Krakowie "Kopiec Kościuszki" | Tour of Krakow "Kosciuszko Mound" | Екскурсія Краковом "Курган Костюшко"
DESCRIPTION:Grupa wiekowa: 18+Język prowadzenia: ukraińskiPL | Data wycieczki: 04.05.2024Czas zbiórki: 12.00Miejsce spotkania: przystanek tramwajowy SalwatorENG | Date of the tour: 04.05.2024Meeting time:......
URL:https://app.evenea.pl/event/wycieczka0405/
PRIORITY:1
CLASS:PUBLIC
END:VEVENT
END:VCALENDAR
