BEGIN:VCALENDAR
VERSION:2.0
METHOD:PUBLISH
BEGIN:VEVENT
DTSTART:20240316T120000
DTEND:20240316T140000
LOCATION:Przystanek tramwajowy "Rondo Grunwaldzkie" Most Grunwaldzki  Kraków
TRANSP: OPAQUE
SEQUENCE:0
UID:
DTSTAMP:20260423T050305Z
SUMMARY:Wycieczka po Krakowie: "Most Grunwaldzki. Pomnik Psa Dżoka" | Tour of Krakow: "Grunwald Bridge. Monument to the Dog Jock" | Екскурсія Краковом:  "Грюнвальдський міст. Пам'ятник псу Джоку"
DESCRIPTION:Grupa wiekowa: 18+Język prowadzenia: ukraińskiPL | Data wycieczki: 16.03.2023Czas zbiórki: 12.00Miejsce spotkania: na przystanku Rondo GrunwaldzkieENG | Date of the tour: 16.03.2023Collection......
URL:https://app.evenea.pl/event/wycieczka1603/
PRIORITY:1
CLASS:PUBLIC
END:VEVENT
END:VCALENDAR
