BEGIN:VCALENDAR
VERSION:2.0
METHOD:PUBLISH
BEGIN:VEVENT
DTSTART:20240420T120000
DTEND:20240420T150000
LOCATION:przystanek tramwajowy "Kombinat" Kombinat  Kraków
TRANSP: OPAQUE
SEQUENCE:0
UID:
DTSTAMP:20260423T050209Z
SUMMARY:Wycieczka po Krakowie "Kopiec Wandy" | Tour of Krakow "Wanda's Mound" | Екскурсія Краковом "Курган Ванди"
DESCRIPTION:Grupa wiekowa: 18+Język prowadzenia: ukraińskiPL | Data wycieczki: 20.04.2024Czas zbiórki: 12.00Miejsce spotkania: przystanek tramwajowy KombinatENG | Date of the tour: 20.04.2024Meeting time:......
URL:https://app.evenea.pl/event/wycieczka2004/
PRIORITY:1
CLASS:PUBLIC
END:VEVENT
END:VCALENDAR
