BEGIN:VCALENDAR
VERSION:2.0
METHOD:PUBLISH
BEGIN:VEVENT
DTSTART:20240621T120000
DTEND:20240621T140000
LOCATION:Skwer Wolnej Ukrainy Skwer Wolnej Ukrainy  Kraków
TRANSP: OPAQUE
SEQUENCE:0
UID:
DTSTAMP:20260424T011104Z
SUMMARY:Wycieczka po Krakowie “Śladami Ukraińców w Krakowie" | Tour of Krakow "Ukrainian Traces in Cracow" | Екскурсія Краковом "Слідами українців у Кракові"
DESCRIPTION:Grupa wiekowa: 18+Język prowadzenia: ukraińskiPL | Zapraszamy na wycieczkę "Śladami Ukraińców w Krakowie", która odbędzie się 22 czerwca w godzinach 12:00-14:00. To wyjątkowa okazja, by......
URL:https://app.evenea.pl/event/wycieczka2206/
PRIORITY:1
CLASS:PUBLIC
END:VEVENT
END:VCALENDAR
