BEGIN:VCALENDAR
VERSION:2.0
METHOD:PUBLISH
BEGIN:VEVENT
DTSTART:20240323T120000
DTEND:20240323T140000
LOCATION:przystanek tramwajowy "Lubicz" Lubicz  Kraków
TRANSP: OPAQUE
SEQUENCE:0
UID:
DTSTAMP:20260423T050305Z
SUMMARY:Wycieczka po Krakowie "Park Strzelecki: zabytki i architektura" | Krakow tour "Strzelecki Park: monuments and architecture" | Екскурсія Краковом “Стрілецький парк: пам'ятники та архітектура"
DESCRIPTION:Grupa wiekowa: 18+Język prowadzenia: ukraińskiPL | Data wycieczki: 23.03.2023Czas zbiórki: 12.00Miejsce spotkania: przystanek tramwajowy LubiczENG | Date of the tour: 23.03.2023Meeting time:......
URL:https://app.evenea.pl/event/wycieczka2303/
PRIORITY:1
CLASS:PUBLIC
END:VEVENT
END:VCALENDAR
